BEGIN:VCALENDAR
VERSION:2.0
PRODID:-//NSTA Hillcrest™ - RTO 32292 - ECPv6.15.20//NONSGML v1.0//EN
CALSCALE:GREGORIAN
METHOD:PUBLISH
X-ORIGINAL-URL:https://hillcrest.nsta.edu.au
X-WR-CALDESC:Events for NSTA Hillcrest™ - RTO 32292
REFRESH-INTERVAL;VALUE=DURATION:PT1H
X-Robots-Tag:noindex
X-PUBLISHED-TTL:PT1H
BEGIN:VTIMEZONE
TZID:Australia/Brisbane
BEGIN:STANDARD
TZOFFSETFROM:+1000
TZOFFSETTO:+1000
TZNAME:AEST
DTSTART:20250101T000000
END:STANDARD
END:VTIMEZONE
BEGIN:VEVENT
DTSTART;TZID=Australia/Brisbane:20260429T073000
DTEND;TZID=Australia/Brisbane:20260429T153000
DTSTAMP:20260425T072545
CREATED:20260417T011343Z
LAST-MODIFIED:20260417T011343Z
UID:2505-1777447800-1777476600@hillcrest.nsta.edu.au
SUMMARY:CPPSS00063 Firearms Skill Set Wednesday 29 April 2026
DESCRIPTION:🔫 CPPSS00063 – Firearms Skill Set (QLD)\nNationally recognised firearms training for eligible security personnel in Queensland. This training may also classify as Armed Guard Annual Requalification\, depending on your licensing and operational requirements. \n⚠ All required online learning must be completed before attending practical training. \n📘 Training overview\nCPPSS00063 Firearms Skill Set supports firearms-related security training requirements for eligible participants and may be used where annual requalification or firearms-related security functions apply. Training includes practical firearms handling\, safety procedures\, and supervised assessment in line with current operational and licensing expectations. \n\n\nImportant Enrolment Information\n✔ Online learning: all required online learning must be completed prior to practical attendance.\n✔ Delivery: blended learning with online theory and face-to-face practical training.\n✔ Eligibility: suitable for eligible security personnel requiring firearms-related training or annual requalification.\n✔ Age: 18+ only.\n✔ Bring: 100 points of ID (originals)\, USI\, enclosed footwear\, and any required licensing or supporting documents.\n✔ Participants must meet any applicable operational\, licensing\, or employer requirements before attendance. \n\n \n\n📍 Contact & Location\nNSTA Hillcrest™\n18 Elliott Court\, Hillcrest\, QLD 4118\, Australia \n☎ 07 3800 8631\n✉ hillcrest@nsta.edu.au \n\n \nEnrol Now\n\nOpen in Google Maps\n\n \n\n⚠ Please note: This training includes required online learning that must be completed before attending the practical training session. \n\n \n\n\n  \n\n\n\nFill out the form below to enrol now\n\n\n	\n		\n		 \n	\n	\n		\n		 \n	\n	\n		\n		 \n	\n	\n		\n		 \n	\n	\n		\n		 \n	\n	\n		\n		 \n	\n\nAddress\n\n\n	\n		\n		 \n	\n	\n		\n		 \n	\n	\n		—Please choose an option—QLDNSWVICSAWATASNTACT
URL:https://hillcrest.nsta.edu.au/schedule/cppss00063-firearms-skill-set-training-2/
LOCATION:NSTA Hillcrest
CATEGORIES:CPPSS00063 Firearms Skill Set (QLD – Armed Guard Requalification)
END:VEVENT
END:VCALENDAR