BEGIN:VCALENDAR
VERSION:2.0
PRODID:-//NSTA Hillcrest™ - RTO 32292 - ECPv6.15.20//NONSGML v1.0//EN
CALSCALE:GREGORIAN
METHOD:PUBLISH
X-WR-CALNAME:NSTA Hillcrest™ - RTO 32292
X-ORIGINAL-URL:https://hillcrest.nsta.edu.au
X-WR-CALDESC:Events for NSTA Hillcrest™ - RTO 32292
REFRESH-INTERVAL;VALUE=DURATION:PT1H
X-Robots-Tag:noindex
X-PUBLISHED-TTL:PT1H
BEGIN:VTIMEZONE
TZID:Australia/Brisbane
BEGIN:STANDARD
TZOFFSETFROM:+1000
TZOFFSETTO:+1000
TZNAME:AEST
DTSTART:20250101T000000
END:STANDARD
END:VTIMEZONE
BEGIN:VEVENT
DTSTART;TZID=Australia/Brisbane:20260630T073000
DTEND;TZID=Australia/Brisbane:20260630T133000
DTSTAMP:20260426T012442
CREATED:20260420T062739Z
LAST-MODIFIED:20260420T062739Z
UID:2534-1782804600-1782826200@hillcrest.nsta.edu.au
SUMMARY:CPPSS00060 Security Canine Skill Set Tuesday 30 June 2026
DESCRIPTION:🐕 CPPSS00060 – Security Canine Skill Set (QLD)\nNationally recognised training for licensed security officers seeking the\nDog Patrol function on a QLD Security Licence. \n⚠ Online component must be completed before attending practical training. \n📘 Units covered\n✔ CPPSEC3112 – Manage training and well-being of dogs for security functions\n✔ CPPSEC3113 – Handle dogs for security patrols \n\n\nImportant Enrolment Information\n✔ Pre-requisite: CPP20218 Certificate II in Security Operations must be completed.\n✔ Online learning: must be completed prior to face-to-face practical sessions.\n✔ Eligibility: QLD Security Licence requirements apply (OFT).\n✔ Age: 18+ only.\n✔ Bring: 100 points of ID (originals)\, USI\, enclosed footwear.\n✔ Good physical fitness and confidence around dogs is essential. \n\n \n\n📍 Contact & Location\nNSTA Hillcrest™\n18 Elliott Court\, Hillcrest\, QLD 4118\, Australia \n☎ 07 3800 8631\n✉ hillcrest@nsta.edu.au \n\n \nEnrol Now\n\nOpen in Google Maps\n\n \n\n⚠ Please note: This course includes a mandatory online component that must be completed\nbefore attending the practical training sessions. \n\n \n\n\n  \n\n\n\nFill out the form below to enrol now\n\n\n	\n		\n		 \n	\n	\n		\n		 \n	\n	\n		\n		 \n	\n	\n		\n		 \n	\n	\n		\n		 \n	\n	\n		\n		 \n	\n\nAddress\n\n\n	\n		\n		 \n	\n	\n		\n		 \n	\n	\n		—Please choose an option—QLDNSWVICSAWATASNTACT
URL:https://hillcrest.nsta.edu.au/schedule/cppss00060-security-canine-skill-set-training-6/
LOCATION:NSTA Hillcrest
CATEGORIES:CPPSS00060 Security Canine Skill Set
END:VEVENT
END:VCALENDAR