BEGIN:VCALENDAR
VERSION:2.0
PRODID:-//NSTA Hillcrest™ - RTO 32292 - ECPv6.15.20//NONSGML v1.0//EN
CALSCALE:GREGORIAN
METHOD:PUBLISH
X-ORIGINAL-URL:https://hillcrest.nsta.edu.au
X-WR-CALDESC:Events for NSTA Hillcrest™ - RTO 32292
REFRESH-INTERVAL;VALUE=DURATION:PT1H
X-Robots-Tag:noindex
X-PUBLISHED-TTL:PT1H
BEGIN:VTIMEZONE
TZID:Australia/Brisbane
BEGIN:STANDARD
TZOFFSETFROM:+1000
TZOFFSETTO:+1000
TZNAME:AEST
DTSTART:20250101T000000
END:STANDARD
END:VTIMEZONE
BEGIN:VEVENT
DTSTART;TZID=Australia/Brisbane:20260427T073000
DTEND;TZID=Australia/Brisbane:20260427T133000
DTSTAMP:20260424T032811
CREATED:20211028T161540Z
LAST-MODIFIED:20260416T235527Z
UID:925-1777275000-1777296600@hillcrest.nsta.edu.au
SUMMARY:11029NAT Firearms & Weapons Safety Monday 27 April 2026
DESCRIPTION:🔫 11029NAT – Course in Firearms and Weapons Safety\nApproved training for Queensland firearms licensing. Session time: 07:30am – 1:30pm. \n📘 Units covered on the day\n\n    ✔ NAT11029001 Demonstrate knowledge of weapons legislation\, weapons and community safety\n    ✔ NAT11029002 Use Category A and B firearms lawfully\, safely and responsibly (and/or)\n    ✔ NAT11029005 Use Category H firearms lawfully\, safely and responsibly\n   \n\n\nImportant Enrolment Information\n\n    ✔ Pre-course tasks: complete any pre-learning sent by email before class.\n    ✔ Arrival: arrive 15 minutes early for sign-in and checks.\n    ✔ Bring: 100 points of ID (originals)\, USI\, and closed-toe footwear.\n    ✔ Age/licensing: minimum enrolment age 11. Minors (11–17) require written consent and must be accompanied by a parent/guardian. A full weapons licence is only available at 18+ (QPS Weapons Licensing).\n   \n\n \n\n📍 Contact & Location\n\n    NSTA Hillcrest™\n    18 Elliott Court\, Hillcrest\, QLD 4118\, Australia\n   \n\n    ☎ 07 3800 8631\n    ✉ hillcrest@nsta.edu.au\n   \n \n\n  \n    Enrol Now\n  \n  \n    Open in Google Maps\n  \n\n \n\n  \n\n  \n\n\n\nFill out the form below to enrol now\n\n\n	\n		\n		 \n	\n	\n		\n		 \n	\n	\n		\n		 \n	\n	\n		\n		 \n	\n	\n		\n		 \n	\n	\n		\n		 \n	\n\nAddress\n\n\n	\n		\n		 \n	\n	\n		\n		 \n	\n	\n		—Please choose an option—QLDNSWVICSAWATASNTACT
URL:https://hillcrest.nsta.edu.au/schedule/11029nat-firearms-training/
LOCATION:NSTA Hillcrest
CATEGORIES:11029NAT Firearms & Weapons Training
END:VEVENT
END:VCALENDAR